BEGIN:VCALENDAR
VERSION:2.0
CALSCALE:GREGORIAN
METHOD:PUBLISH
X-WR-TIMEZONE:Australia/Sydney
BEGIN:VTIMEZONE
TZID:Australia/Sydney
BEGIN:STANDARD
TZNAME:AEST
DTSTART:19700101T000000
TZOFFSETFROM:+1100
TZOFFSETTO:+1000
END:STANDARD
END:VTIMEZONE
BEGIN:VEVENT
DTSTART;TZID=Australia/Sydney:20260508T144500
DTEND;TZID=Australia/Sydney:20260508T151500
DTSTAMP:20260422T222051
UID:207
SUMMARY:Mother&#039;s Day Afternoon Tea
DESCRIPTION:




Hello everyone
We will also be hosting a Mother&#039;s Day Afternoon Tea for all our Mums, Grandmas and Special Persons on Friday, 8th May at 2:45 pm in the Gym. Please RSVP by Tuesday, 5th May, using this Google Form. We hope you can join us.


SEQUENCE:0
STATUS:CONFIRMED
TRANSP:OPAQUE
END:VEVENT
END:VCALENDAR